BEGIN:VCALENDAR
VERSION:2.0
PRODID:-//GreenTech//Course//EN
BEGIN:VEVENT
DTSTART:20260423T093000
DTEND:20260423T160000
SUMMARY:Operational Constraint and Curtailment in Ireland
DESCRIPTION:Delivery: Online\nMeeting link: https://teams.microsoft.com/meet/36331071261148?p=wE8mSuyEILTgm5AU00\nhttps://greentechskillnet.com/courses/operational-constraint-and-curtailment-in-ireland-2026/
URL:https://greentechskillnet.com/courses/operational-constraint-and-curtailment-in-ireland-2026/
END:VEVENT
END:VCALENDAR